BEGIN:VCALENDAR
VERSION:2.0
PRODID:-//SVP Bezirk Muri //NONSGML Events //EN
CALSCALE:GREGORIAN
X-WR-CALNAME:SVP Bezirk Muri
BEGIN:VEVENT
CREATED:20220912T062038Z
UID:1429
DTEND:20231025T000000
DTSTART:20231025T000000
DTSTAMP:20260420T145444Z
LOCATION:
DESCRIPTION:Landgasthof Löwen, Boswil 20.00 Uhr
SUMMARY:Parteitag
ORGANIZER:
URL;VALUE=URI:https://www.svpbezirkmuri.ch/termine/parteitag/
TRANSP:OPAQUE
END:VEVENT
END:VCALENDAR
