BEGIN:VCALENDAR
VERSION:2.0
PRODID:-//SVP Bezirk Muri //NONSGML Events //EN
CALSCALE:GREGORIAN
X-WR-CALNAME:SVP Bezirk Muri
BEGIN:VEVENT
CREATED:20230918T041457Z
UID:1662
DTEND:20231214T200000
DTSTART:20231214T190000
DTSTAMP:20260420T150559Z
LOCATION:
DESCRIPTION:
SUMMARY:Kantonalvorstand
ORGANIZER:
URL;VALUE=URI:https://www.svpbezirkmuri.ch/termine/kantonalvorstand/
TRANSP:OPAQUE
END:VEVENT
END:VCALENDAR
