BEGIN:VCALENDAR
VERSION:2.0
PRODID:-//SVP Bezirk Muri //NONSGML Events //EN
CALSCALE:GREGORIAN
X-WR-CALNAME:SVP Bezirk Muri
BEGIN:VEVENT
CREATED:20240422T055656Z
UID:1806
DTEND:20240530T200000
DTSTART:20240530T190000
DTSTAMP:20260424T181629Z
LOCATION:MZH Meiserschwanden
DESCRIPTION:Flyer A4_Markus Somm mit Grossratskandidaten Öffentliche Veranstaltun
SUMMARY:SVP Meisterschwanden mit Markus Somm
ORGANIZER:
URL;VALUE=URI:https://www.svpbezirkmuri.ch/termine/svp-meisterschwanden-mit-markus-somm/
TRANSP:OPAQUE
END:VEVENT
END:VCALENDAR
